BEGIN:VCALENDAR
VERSION:2.0
PRODID:DPCALENDAR
CALSCALE:GREGORIAN
X-WR-TIMEZONE:UTC
BEGIN:VEVENT
DTSTART;VALUE=DATE:20220101
DTEND;VALUE=DATE:20220102
UID:FC14CE1A-8049-4FA5-A159-23AD2BF2CC68
SUMMARY:Neujahr
CREATED:20230219T112330Z
DTSTAMP:20230219T112330Z
URL:https://www.main-taunus-schachvereinigung.de/index.php/termine/neujahr
X-ACCESS:1
X-HITS:55
X-COLOR:ff0000
X-SHOW-END-TIME:1
END:VEVENT
BEGIN:VEVENT
DTSTART;VALUE=DATE:20220415
DTEND;VALUE=DATE:20220416
UID:336B7612-4247-4E59-94B8-623A6B59857D
SUMMARY:Karfreitag
CREATED:20230219T172434Z
DTSTAMP:20230219T172434Z
URL:https://www.main-taunus-schachvereinigung.de/index.php/termine/karfreitag
X-ACCESS:1
X-HITS:3
X-COLOR:ff0000
X-SHOW-END-TIME:1
END:VEVENT
BEGIN:VEVENT
DTSTART;VALUE=DATE:20220417
DTEND;VALUE=DATE:20220418
UID:8F72E39C-2176-45A6-9EB5-A772F2A4C65E
SUMMARY:Ostern
CREATED:20230219T172700Z
DTSTAMP:20230219T172700Z
URL:https://www.main-taunus-schachvereinigung.de/index.php/termine/ostern
X-ACCESS:1
X-HITS:57
X-COLOR:ff0000
X-SHOW-END-TIME:1
END:VEVENT
BEGIN:VEVENT
DTSTART;VALUE=DATE:20220418
DTEND;VALUE=DATE:20220419
UID:9340C478-E660-477F-8E6A-9AF1F558B52E
SUMMARY:Ostermontag
CREATED:20230219T172904Z
DTSTAMP:20230219T172904Z
URL:https://www.main-taunus-schachvereinigung.de/index.php/termine/ostermontag
LAST-MODIFIED:20230219T172914Z
SEQUENCE:10
X-ACCESS:1
X-HITS:52
X-COLOR:ff0000
X-SHOW-END-TIME:1
END:VEVENT
BEGIN:VEVENT
DTSTART;VALUE=DATE:20220501
DTEND;VALUE=DATE:20220502
UID:4F6E1180-FE06-4987-AD9B-78896C5AC350
SUMMARY:Maifeiertag
CREATED:20230219T112330Z
DTSTAMP:20230219T112330Z
URL:https://www.main-taunus-schachvereinigung.de/index.php/termine/neujahr-8
X-ACCESS:1
X-HITS:53
X-COLOR:ff0000
X-SHOW-END-TIME:1
END:VEVENT
BEGIN:VEVENT
DTSTART;VALUE=DATE:20220526
DTEND;VALUE=DATE:20220527
UID:186CF980-E4EE-4496-A3AB-42E8382B7729
SUMMARY:Christi Himmelfahrt
CREATED:20230219T173058Z
DTSTAMP:20230219T173058Z
URL:https://www.main-taunus-schachvereinigung.de/index.php/termine/christi-himmelfahrt
X-ACCESS:1
X-HITS:4
X-COLOR:ff0000
X-SHOW-END-TIME:1
END:VEVENT
BEGIN:VEVENT
DTSTART;VALUE=DATE:20220605
DTEND;VALUE=DATE:20220606
UID:0B71A17C-02CB-4EFD-A6BA-3CD867777D3F
SUMMARY:Pfingsten
CREATED:20230219T173223Z
DTSTAMP:20230219T173223Z
URL:https://www.main-taunus-schachvereinigung.de/index.php/termine/pfingsten
X-ACCESS:1
X-HITS:55
X-COLOR:ff0000
X-SHOW-END-TIME:1
END:VEVENT
BEGIN:VEVENT
DTSTART;VALUE=DATE:20220606
DTEND;VALUE=DATE:20220607
UID:8F3F289D-AC45-4DBD-8C2E-436A86B32D96
SUMMARY:Pfingstmontag
CREATED:20230219T173332Z
DTSTAMP:20230219T173332Z
URL:https://www.main-taunus-schachvereinigung.de/index.php/termine/pfingstmontag
X-ACCESS:1
X-HITS:3
X-COLOR:ff0000
X-SHOW-END-TIME:1
END:VEVENT
BEGIN:VEVENT
DTSTART;VALUE=DATE:20220616
DTEND;VALUE=DATE:20220617
UID:27A6506E-8583-4252-B4D4-EF8D10E4D7B3
SUMMARY:Fronleichnam
CREATED:20230219T173446Z
DTSTAMP:20230219T173446Z
URL:https://www.main-taunus-schachvereinigung.de/index.php/termine/fronleichnam
X-ACCESS:1
X-HITS:3
X-COLOR:ff0000
X-SHOW-END-TIME:1
END:VEVENT
BEGIN:VEVENT
DTSTART;VALUE=DATE:20221003
DTEND;VALUE=DATE:20221004
UID:112C7815-F41C-43FB-9EA9-6362C892D376
SUMMARY:Tag der Deutschen Einheit
CREATED:20230219T112330Z
DTSTAMP:20230219T112330Z
URL:https://www.main-taunus-schachvereinigung.de/index.php/termine/neujahr-15
X-ACCESS:1
X-HITS:50
X-COLOR:ff0000
X-SHOW-END-TIME:1
END:VEVENT
BEGIN:VEVENT
DTSTART;VALUE=DATE:20221225
DTEND;VALUE=DATE:20221226
UID:D6441797-BACF-44EF-AAAA-D0A5368CF4C7
SUMMARY:1. Weihnachtsfeiertag
CREATED:20230219T112330Z
DTSTAMP:20230219T112330Z
URL:https://www.main-taunus-schachvereinigung.de/index.php/termine/neujahr-22
X-ACCESS:1
X-HITS:4
X-COLOR:ff0000
X-SHOW-END-TIME:1
END:VEVENT
BEGIN:VEVENT
DTSTART;VALUE=DATE:20221226
DTEND;VALUE=DATE:20221227
UID:B66652F1-C963-40DE-821F-99813F2EA852
SUMMARY:2. Weihnachtsfeiertag
CREATED:20230219T112330Z
DTSTAMP:20230219T112330Z
URL:https://www.main-taunus-schachvereinigung.de/index.php/termine/neujahr-29
LAST-MODIFIED:20230219T115838Z
SEQUENCE:2108
X-ACCESS:1
X-HITS:53
X-COLOR:ff0000
X-SHOW-END-TIME:1
END:VEVENT
BEGIN:VEVENT
DTSTART;VALUE=DATE:20230101
DTEND;VALUE=DATE:20230102
UID:D20B373E-4C29-45DD-925B-158ABBD0FFD3
SUMMARY:Neujahr
CREATED:20230219T112330Z
DTSTAMP:20230219T112330Z
URL:https://www.main-taunus-schachvereinigung.de/index.php/termine/neujahr-2
X-ACCESS:1
X-HITS:53
X-COLOR:ff0000
X-SHOW-END-TIME:1
END:VEVENT
BEGIN:VEVENT
DTSTART;VALUE=DATE:20230407
DTEND;VALUE=DATE:20230408
UID:61ABDA73-365A-48D3-8AEC-409F79CF9621
SUMMARY:Karfreitag
CREATED:20230219T172434Z
DTSTAMP:20230219T172434Z
URL:https://www.main-taunus-schachvereinigung.de/index.php/termine/karfreitag-2
X-ACCESS:1
X-HITS:10
X-COLOR:ff0000
X-SHOW-END-TIME:1
END:VEVENT
BEGIN:VEVENT
DTSTART;VALUE=DATE:20230409
DTEND;VALUE=DATE:20230410
UID:617A646B-31FD-4FDB-A30C-283858FD2B60
SUMMARY:Ostern
CREATED:20230219T172700Z
DTSTAMP:20230219T172700Z
URL:https://www.main-taunus-schachvereinigung.de/index.php/termine/ostern-2
X-ACCESS:1
X-HITS:63
X-COLOR:ff0000
X-SHOW-END-TIME:1
END:VEVENT
BEGIN:VEVENT
DTSTART;VALUE=DATE:20230410
DTEND;VALUE=DATE:20230411
UID:43DB61BE-9FE4-4907-AB1E-64573A093DE9
SUMMARY:Ostermontag
CREATED:20230219T172904Z
DTSTAMP:20230219T172904Z
URL:https://www.main-taunus-schachvereinigung.de/index.php/termine/ostermontag-2
LAST-MODIFIED:20230219T172914Z
SEQUENCE:10
X-ACCESS:1
X-HITS:64
X-COLOR:ff0000
X-SHOW-END-TIME:1
END:VEVENT
BEGIN:VEVENT
DTSTART;VALUE=DATE:20230501
DTEND;VALUE=DATE:20230502
UID:B7A73CB5-ABD7-4AFC-984A-886625E4FE3B
SUMMARY:Maifeiertag
CREATED:20230219T112330Z
DTSTAMP:20230219T112330Z
URL:https://www.main-taunus-schachvereinigung.de/index.php/termine/neujahr-9
X-ACCESS:1
X-HITS:60
X-COLOR:ff0000
X-SHOW-END-TIME:1
END:VEVENT
BEGIN:VEVENT
DTSTART;VALUE=DATE:20230518
DTEND;VALUE=DATE:20230519
UID:AC7AD916-7B0A-4A80-893C-61E12E528A4D
SUMMARY:Christi Himmelfahrt
CREATED:20230219T173058Z
DTSTAMP:20230219T173058Z
URL:https://www.main-taunus-schachvereinigung.de/index.php/termine/christi-himmelfahrt-2
X-ACCESS:1
X-HITS:57
X-COLOR:ff0000
X-SHOW-END-TIME:1
END:VEVENT
BEGIN:VEVENT
DTSTART;VALUE=DATE:20230528
DTEND;VALUE=DATE:20230529
UID:8797D277-2F5A-423C-AB6D-11DCD066B36D
SUMMARY:Pfingsten
CREATED:20230219T173223Z
DTSTAMP:20230219T173223Z
URL:https://www.main-taunus-schachvereinigung.de/index.php/termine/pfingsten-2
X-ACCESS:1
X-HITS:22
X-COLOR:ff0000
X-SHOW-END-TIME:1
END:VEVENT
BEGIN:VEVENT
DTSTART;VALUE=DATE:20230529
DTEND;VALUE=DATE:20230530
UID:2CEBD0E4-A96B-459C-95DC-5E8027BE7CAF
SUMMARY:Pfingstmontag
CREATED:20230219T173332Z
DTSTAMP:20230219T173332Z
URL:https://www.main-taunus-schachvereinigung.de/index.php/termine/pfingstmontag-2
X-ACCESS:1
X-HITS:8
X-COLOR:ff0000
X-SHOW-END-TIME:1
END:VEVENT
BEGIN:VEVENT
DTSTART;VALUE=DATE:20230608
DTEND;VALUE=DATE:20230609
UID:394502FE-29C8-430B-9270-0E403DE16EDE
SUMMARY:Fronleichnam
CREATED:20230219T173446Z
DTSTAMP:20230219T173446Z
URL:https://www.main-taunus-schachvereinigung.de/index.php/termine/fronleichnam-2
X-ACCESS:1
X-HITS:57
X-COLOR:ff0000
X-SHOW-END-TIME:1
END:VEVENT
BEGIN:VEVENT
DTSTART;VALUE=DATE:20231003
DTEND;VALUE=DATE:20231004
UID:A6CCB47F-C686-47DE-9F26-D5A6FB280B6E
SUMMARY:Tag der Deutschen Einheit
CREATED:20230219T112330Z
DTSTAMP:20230219T112330Z
URL:https://www.main-taunus-schachvereinigung.de/index.php/termine/neujahr-16
X-ACCESS:1
X-HITS:11
X-COLOR:ff0000
X-SHOW-END-TIME:1
END:VEVENT
BEGIN:VEVENT
DTSTART;VALUE=DATE:20231225
DTEND;VALUE=DATE:20231226
UID:52FA9264-8B8D-4B70-980F-23704884FB66
SUMMARY:1. Weihnachtsfeiertag
CREATED:20230219T112330Z
DTSTAMP:20230219T112330Z
URL:https://www.main-taunus-schachvereinigung.de/index.php/termine/neujahr-23
X-ACCESS:1
X-HITS:2
X-COLOR:ff0000
X-SHOW-END-TIME:1
END:VEVENT
BEGIN:VEVENT
DTSTART;VALUE=DATE:20231226
DTEND;VALUE=DATE:20231227
UID:8DD09589-7814-42EA-9E98-6831EAE0E6AD
SUMMARY:2. Weihnachtsfeiertag
CREATED:20230219T112330Z
DTSTAMP:20230219T112330Z
URL:https://www.main-taunus-schachvereinigung.de/index.php/termine/neujahr-30
X-ACCESS:1
X-HITS:54
X-COLOR:ff0000
X-SHOW-END-TIME:1
END:VEVENT
BEGIN:VEVENT
DTSTART;VALUE=DATE:20240101
DTEND;VALUE=DATE:20240102
UID:3D477028-16C7-40A5-8562-62D26E492D9E
SUMMARY:Neujahr
CREATED:20230219T112330Z
DTSTAMP:20230219T112330Z
URL:https://www.main-taunus-schachvereinigung.de/index.php/termine/neujahr-3
X-ACCESS:1
X-HITS:60
X-COLOR:ff0000
X-SHOW-END-TIME:1
END:VEVENT
BEGIN:VEVENT
DTSTART;VALUE=DATE:20240329
DTEND;VALUE=DATE:20240330
UID:F567F4D4-6EB6-497B-B298-3C31B214EBEE
SUMMARY:Karfreitag
CREATED:20230219T172434Z
DTSTAMP:20230219T172434Z
URL:https://www.main-taunus-schachvereinigung.de/index.php/termine/karfreitag-3
X-ACCESS:1
X-HITS:7
X-COLOR:ff0000
X-SHOW-END-TIME:1
END:VEVENT
BEGIN:VEVENT
DTSTART;VALUE=DATE:20240331
DTEND;VALUE=DATE:20240401
UID:DA7D4BBF-3810-4E60-B0B3-6E91B63216DE
SUMMARY:Ostern
CREATED:20230219T172700Z
DTSTAMP:20230219T172700Z
URL:https://www.main-taunus-schachvereinigung.de/index.php/termine/ostern-3
X-ACCESS:1
X-HITS:53
X-COLOR:ff0000
X-SHOW-END-TIME:1
END:VEVENT
BEGIN:VEVENT
DTSTART;VALUE=DATE:20240401
DTEND;VALUE=DATE:20240402
UID:36D937F7-663D-45A8-AF74-AFE6540D1757
SUMMARY:Ostermontag
CREATED:20230219T172904Z
DTSTAMP:20230219T172904Z
URL:https://www.main-taunus-schachvereinigung.de/index.php/termine/ostermontag-3
LAST-MODIFIED:20230219T172914Z
SEQUENCE:10
X-ACCESS:1
X-HITS:149
X-COLOR:ff0000
X-SHOW-END-TIME:1
END:VEVENT
BEGIN:VEVENT
DTSTART;VALUE=DATE:20240501
DTEND;VALUE=DATE:20240502
UID:E5295782-A9A1-4ADA-BC60-A4F7621D259A
SUMMARY:Maifeiertag
CREATED:20230219T112330Z
DTSTAMP:20230219T112330Z
URL:https://www.main-taunus-schachvereinigung.de/index.php/termine/neujahr-10
X-ACCESS:1
X-HITS:108
X-COLOR:ff0000
X-SHOW-END-TIME:1
END:VEVENT
BEGIN:VEVENT
DTSTART;VALUE=DATE:20240509
DTEND;VALUE=DATE:20240510
UID:E8C8585C-43F1-4063-AC20-A4882A6226EA
SUMMARY:Christi Himmelfahrt
CREATED:20230219T173058Z
DTSTAMP:20230219T173058Z
URL:https://www.main-taunus-schachvereinigung.de/index.php/termine/christi-himmelfahrt-3
X-ACCESS:1
X-HITS:111
X-COLOR:ff0000
X-SHOW-END-TIME:1
END:VEVENT
BEGIN:VEVENT
DTSTART;VALUE=DATE:20240519
DTEND;VALUE=DATE:20240520
UID:78322B58-D73A-4FA4-AB07-40617A3A4C2C
SUMMARY:Pfingsten
CREATED:20230219T173223Z
DTSTAMP:20230219T173223Z
URL:https://www.main-taunus-schachvereinigung.de/index.php/termine/pfingsten-3
X-ACCESS:1
X-HITS:154
X-COLOR:ff0000
X-SHOW-END-TIME:1
END:VEVENT
BEGIN:VEVENT
DTSTART;VALUE=DATE:20240520
DTEND;VALUE=DATE:20240521
UID:14E1D746-AFCE-48B6-8ACD-A15DB98F9EE5
SUMMARY:Pfingstmontag
CREATED:20230219T173332Z
DTSTAMP:20230219T173332Z
URL:https://www.main-taunus-schachvereinigung.de/index.php/termine/pfingstmontag-3
X-ACCESS:1
X-HITS:99
X-COLOR:ff0000
X-SHOW-END-TIME:1
END:VEVENT
BEGIN:VEVENT
DTSTART;VALUE=DATE:20240530
DTEND;VALUE=DATE:20240531
UID:0E9BEA5C-FA5D-42FE-B16B-E294150E11F8
SUMMARY:Fronleichnam
CREATED:20230219T173446Z
DTSTAMP:20230219T173446Z
URL:https://www.main-taunus-schachvereinigung.de/index.php/termine/fronleichnam-3
X-ACCESS:1
X-HITS:102
X-COLOR:ff0000
X-SHOW-END-TIME:1
END:VEVENT
BEGIN:VEVENT
DTSTART;VALUE=DATE:20241003
DTEND;VALUE=DATE:20241004
UID:03A14C82-5B89-469F-A7D8-14BC2AD388FB
SUMMARY:Tag der Deutschen Einheit
CREATED:20230219T112330Z
DTSTAMP:20230219T112330Z
URL:https://www.main-taunus-schachvereinigung.de/index.php/termine/neujahr-17
X-ACCESS:1
X-HITS:52
X-COLOR:ff0000
X-SHOW-END-TIME:1
END:VEVENT
BEGIN:VEVENT
DTSTART;VALUE=DATE:20241225
DTEND;VALUE=DATE:20241226
UID:F11A4EC2-D0C1-47DE-879D-C8CCA6E40580
SUMMARY:1. Weihnachtsfeiertag
CREATED:20230219T112330Z
DTSTAMP:20230219T112330Z
URL:https://www.main-taunus-schachvereinigung.de/index.php/termine/neujahr-24
X-ACCESS:1
X-HITS:5
X-COLOR:ff0000
X-SHOW-END-TIME:1
END:VEVENT
BEGIN:VEVENT
DTSTART;VALUE=DATE:20241226
DTEND;VALUE=DATE:20241227
UID:58E10952-85D6-42A9-BEDC-FD2B3FB7FCDD
SUMMARY:2. Weihnachtsfeiertag
CREATED:20230219T112330Z
DTSTAMP:20230219T112330Z
URL:https://www.main-taunus-schachvereinigung.de/index.php/termine/neujahr-31
X-ACCESS:1
X-HITS:3
X-COLOR:ff0000
X-SHOW-END-TIME:1
END:VEVENT
BEGIN:VEVENT
DTSTART;VALUE=DATE:20250101
DTEND;VALUE=DATE:20250102
UID:AED9BC9E-6FF5-4526-90C3-E25D27C07841
SUMMARY:Neujahr
CREATED:20230219T112330Z
DTSTAMP:20230219T112330Z
URL:https://www.main-taunus-schachvereinigung.de/index.php/termine/neujahr-4
X-ACCESS:1
X-HITS:5
X-COLOR:ff0000
X-SHOW-END-TIME:1
END:VEVENT
BEGIN:VEVENT
DTSTART;VALUE=DATE:20250501
DTEND;VALUE=DATE:20250502
UID:264610FB-76B3-4363-ACE3-7F2FB6E3A17C
SUMMARY:Maifeiertag
CREATED:20230219T112330Z
DTSTAMP:20230219T112330Z
URL:https://www.main-taunus-schachvereinigung.de/index.php/termine/neujahr-11
X-ACCESS:1
X-HITS:5
X-COLOR:ff0000
X-SHOW-END-TIME:1
END:VEVENT
BEGIN:VEVENT
DTSTART;VALUE=DATE:20251003
DTEND;VALUE=DATE:20251004
UID:0DE45AC6-2E28-47F7-A8C6-7529B2293FFB
SUMMARY:Tag der Deutschen Einheit
CREATED:20230219T112330Z
DTSTAMP:20230219T112330Z
URL:https://www.main-taunus-schachvereinigung.de/index.php/termine/neujahr-18
X-ACCESS:1
X-HITS:7
X-COLOR:ff0000
X-SHOW-END-TIME:1
END:VEVENT
BEGIN:VEVENT
DTSTART;VALUE=DATE:20251225
DTEND;VALUE=DATE:20251226
UID:E9B680F6-A729-4C0B-96FD-00953E451409
SUMMARY:1. Weihnachtsfeiertag
CREATED:20230219T112330Z
DTSTAMP:20230219T112330Z
URL:https://www.main-taunus-schachvereinigung.de/index.php/termine/neujahr-25
X-ACCESS:1
X-HITS:5
X-COLOR:ff0000
X-SHOW-END-TIME:1
END:VEVENT
BEGIN:VEVENT
DTSTART;VALUE=DATE:20251226
DTEND;VALUE=DATE:20251227
UID:19E44985-0CF6-4326-B3AC-A7E3AD13AEAF
SUMMARY:2. Weihnachtsfeiertag
CREATED:20230219T112330Z
DTSTAMP:20230219T112330Z
URL:https://www.main-taunus-schachvereinigung.de/index.php/termine/neujahr-32
X-ACCESS:1
X-HITS:6
X-COLOR:ff0000
X-SHOW-END-TIME:1
END:VEVENT
BEGIN:VEVENT
DTSTART;VALUE=DATE:20260101
DTEND;VALUE=DATE:20260102
UID:866CBEA8-DF24-43B3-88A9-C0383FE9915D
SUMMARY:Neujahr
CREATED:20230219T112330Z
DTSTAMP:20230219T112330Z
URL:https://www.main-taunus-schachvereinigung.de/index.php/termine/neujahr-5
X-ACCESS:1
X-HITS:55
X-COLOR:ff0000
X-SHOW-END-TIME:1
END:VEVENT
BEGIN:VEVENT
DTSTART;VALUE=DATE:20260501
DTEND;VALUE=DATE:20260502
UID:A17D0B1B-5B2A-4AF4-BD50-8D2E05F11EBF
SUMMARY:Maifeiertag
CREATED:20230219T112330Z
DTSTAMP:20230219T112330Z
URL:https://www.main-taunus-schachvereinigung.de/index.php/termine/neujahr-12
X-ACCESS:1
X-HITS:55
X-COLOR:ff0000
X-SHOW-END-TIME:1
END:VEVENT
BEGIN:VEVENT
DTSTART;VALUE=DATE:20261003
DTEND;VALUE=DATE:20261004
UID:DDA8E090-B6B6-4938-AB2C-D2B7C8BAB2E9
SUMMARY:Tag der Deutschen Einheit
CREATED:20230219T112330Z
DTSTAMP:20230219T112330Z
URL:https://www.main-taunus-schachvereinigung.de/index.php/termine/neujahr-19
X-ACCESS:1
X-HITS:3
X-COLOR:ff0000
X-SHOW-END-TIME:1
END:VEVENT
BEGIN:VEVENT
DTSTART;VALUE=DATE:20261225
DTEND;VALUE=DATE:20261226
UID:C1C36E44-3960-4625-8159-3A9F5AD37F3B
SUMMARY:1. Weihnachtsfeiertag
CREATED:20230219T112330Z
DTSTAMP:20230219T112330Z
URL:https://www.main-taunus-schachvereinigung.de/index.php/termine/neujahr-26
X-ACCESS:1
X-HITS:57
X-COLOR:ff0000
X-SHOW-END-TIME:1
END:VEVENT
BEGIN:VEVENT
DTSTART;VALUE=DATE:20261226
DTEND;VALUE=DATE:20261227
UID:71B83AA6-13E3-4199-8116-0F58BC2D67E4
SUMMARY:2. Weihnachtsfeiertag
CREATED:20230219T112330Z
DTSTAMP:20230219T112330Z
URL:https://www.main-taunus-schachvereinigung.de/index.php/termine/neujahr-33
X-ACCESS:1
X-HITS:56
X-COLOR:ff0000
X-SHOW-END-TIME:1
END:VEVENT
BEGIN:VEVENT
DTSTART;VALUE=DATE:20270101
DTEND;VALUE=DATE:20270102
UID:372A43A4-1A7A-40C8-8BDE-C0E255EE7477
SUMMARY:Neujahr
CREATED:20230219T112330Z
DTSTAMP:20230219T112330Z
URL:https://www.main-taunus-schachvereinigung.de/index.php/termine/neujahr-6
X-ACCESS:1
X-HITS:57
X-COLOR:ff0000
X-SHOW-END-TIME:1
END:VEVENT
BEGIN:VEVENT
DTSTART;VALUE=DATE:20270501
DTEND;VALUE=DATE:20270502
UID:467F302D-97B3-4552-AD3E-30BDBB672BE1
SUMMARY:Maifeiertag
CREATED:20230219T112330Z
DTSTAMP:20230219T112330Z
URL:https://www.main-taunus-schachvereinigung.de/index.php/termine/neujahr-13
X-ACCESS:1
X-HITS:3
X-COLOR:ff0000
X-SHOW-END-TIME:1
END:VEVENT
BEGIN:VEVENT
DTSTART;VALUE=DATE:20271003
DTEND;VALUE=DATE:20271004
UID:6D99B88C-1A02-4A38-B36A-E07C7BB87DDB
SUMMARY:Tag der Deutschen Einheit
CREATED:20230219T112330Z
DTSTAMP:20230219T112330Z
URL:https://www.main-taunus-schachvereinigung.de/index.php/termine/neujahr-20
X-ACCESS:1
X-HITS:3
X-COLOR:ff0000
X-SHOW-END-TIME:1
END:VEVENT
BEGIN:VEVENT
DTSTART;VALUE=DATE:20271225
DTEND;VALUE=DATE:20271226
UID:A524D9F2-7A3C-4163-ACF5-C2CE28875B48
SUMMARY:1. Weihnachtsfeiertag
CREATED:20230219T112330Z
DTSTAMP:20230219T112330Z
URL:https://www.main-taunus-schachvereinigung.de/index.php/termine/neujahr-27
X-ACCESS:1
X-HITS:57
X-COLOR:ff0000
X-SHOW-END-TIME:1
END:VEVENT
BEGIN:VEVENT
DTSTART;VALUE=DATE:20271226
DTEND;VALUE=DATE:20271227
UID:76379DD1-55AC-4582-854C-114C4BE3E8D8
SUMMARY:2. Weihnachtsfeiertag
CREATED:20230219T112330Z
DTSTAMP:20230219T112330Z
URL:https://www.main-taunus-schachvereinigung.de/index.php/termine/neujahr-34
X-ACCESS:1
X-HITS:3
X-COLOR:ff0000
X-SHOW-END-TIME:1
END:VEVENT
BEGIN:VEVENT
DTSTART;VALUE=DATE:20280101
DTEND;VALUE=DATE:20280102
UID:F2758F31-0089-49A0-A5C1-04740F73B1AE
SUMMARY:Neujahr
CREATED:20230219T112330Z
DTSTAMP:20230219T112330Z
URL:https://www.main-taunus-schachvereinigung.de/index.php/termine/neujahr-7
X-ACCESS:1
X-HITS:4
X-COLOR:ff0000
X-SHOW-END-TIME:1
END:VEVENT
BEGIN:VEVENT
DTSTART;VALUE=DATE:20280501
DTEND;VALUE=DATE:20280502
UID:AFFC88AE-3A69-41E2-886E-7C6B96743260
SUMMARY:Maifeiertag
CREATED:20230219T112330Z
DTSTAMP:20230219T112330Z
URL:https://www.main-taunus-schachvereinigung.de/index.php/termine/neujahr-14
X-ACCESS:1
X-HITS:3
X-COLOR:ff0000
X-SHOW-END-TIME:1
END:VEVENT
BEGIN:VEVENT
DTSTART;VALUE=DATE:20281003
DTEND;VALUE=DATE:20281004
UID:6C989B12-264C-4001-9D62-98444C2D46AA
SUMMARY:Tag der Deutschen Einheit
CREATED:20230219T112330Z
DTSTAMP:20230219T112330Z
URL:https://www.main-taunus-schachvereinigung.de/index.php/termine/neujahr-21
X-ACCESS:1
X-HITS:3
X-COLOR:ff0000
X-SHOW-END-TIME:1
END:VEVENT
BEGIN:VEVENT
DTSTART;VALUE=DATE:20281225
DTEND;VALUE=DATE:20281226
UID:6E2A6E8C-02A6-4EC4-BFFF-E4A3B06946BA
SUMMARY:1. Weihnachtsfeiertag
CREATED:20230219T112330Z
DTSTAMP:20230219T112330Z
URL:https://www.main-taunus-schachvereinigung.de/index.php/termine/neujahr-28
X-ACCESS:1
X-HITS:3
X-COLOR:ff0000
X-SHOW-END-TIME:1
END:VEVENT
BEGIN:VEVENT
DTSTART;VALUE=DATE:20281226
DTEND;VALUE=DATE:20281227
UID:8D77BC07-E47A-4E28-95AA-93162938C419
SUMMARY:2. Weihnachtsfeiertag
CREATED:20230219T112330Z
DTSTAMP:20230219T112330Z
URL:https://www.main-taunus-schachvereinigung.de/index.php/termine/neujahr-35
X-ACCESS:1
X-HITS:3
X-COLOR:ff0000
X-SHOW-END-TIME:1
END:VEVENT
END:VCALENDAR