BEGIN:VCALENDAR
VERSION:2.0
PRODID:DPCALENDAR
CALSCALE:GREGORIAN
X-WR-TIMEZONE:UTC
BEGIN:VEVENT
DTSTART;VALUE=DATE:20220411
DTEND;VALUE=DATE:20220424
UID:5862077E-79F4-4AD3-89FB-E33458AD1305
SUMMARY:Osterferien
CREATED:20230219T110849Z
DTSTAMP:20230219T110849Z
URL:https://www.main-taunus-schachvereinigung.de/index.php/termine/osterferien
X-ACCESS:1
X-HITS:102
X-COLOR:ff8888
X-SHOW-END-TIME:1
END:VEVENT
BEGIN:VEVENT
DTSTART;VALUE=DATE:20220725
DTEND;VALUE=DATE:20220903
UID:9D220FEB-A8E9-4619-B475-56F722C536D4
SUMMARY:Sommerferien
CREATED:20230219T110849Z
DTSTAMP:20230219T110849Z
URL:https://www.main-taunus-schachvereinigung.de/index.php/termine/osterferien-2
X-ACCESS:1
X-HITS:55
X-COLOR:ff8888
X-SHOW-END-TIME:1
END:VEVENT
BEGIN:VEVENT
DTSTART;VALUE=DATE:20221222
DTEND;VALUE=DATE:20230108
UID:3E4BC43D-44DF-4E74-865C-08F97BFF543C
SUMMARY:Weihnachtsferien
CREATED:20230219T110849Z
DTSTAMP:20230219T110849Z
URL:https://www.main-taunus-schachvereinigung.de/index.php/termine/osterferien-3
LAST-MODIFIED:20230219T111208Z
SEQUENCE:199
X-ACCESS:1
X-HITS:116
X-COLOR:ff8888
X-SHOW-END-TIME:1
END:VEVENT
BEGIN:VEVENT
DTSTART;VALUE=DATE:20230403
DTEND;VALUE=DATE:20230423
UID:8C0A202A-E7A4-4777-8BB5-A707216F5882
SUMMARY:Osterferien
CREATED:20230219T110849Z
DTSTAMP:20230219T110849Z
URL:https://www.main-taunus-schachvereinigung.de/index.php/termine/osterferien-4
X-ACCESS:1
X-HITS:60
X-COLOR:ff8888
X-SHOW-END-TIME:1
END:VEVENT
BEGIN:VEVENT
DTSTART;VALUE=DATE:20230724
DTEND;VALUE=DATE:20230902
UID:F2721B89-7A0F-43F0-87D0-F245AC2C1B53
SUMMARY:Sommerferien
CREATED:20230219T110849Z
DTSTAMP:20230219T110849Z
URL:https://www.main-taunus-schachvereinigung.de/index.php/termine/osterferien-5
X-ACCESS:1
X-HITS:105
X-COLOR:ff8888
X-SHOW-END-TIME:1
END:VEVENT
BEGIN:VEVENT
DTSTART;VALUE=DATE:20231023
DTEND;VALUE=DATE:20231029
UID:4F9F9767-8E03-442F-8AEA-9FBE66202872
SUMMARY:Herbstferien
CREATED:20230219T110849Z
DTSTAMP:20230219T110849Z
URL:https://www.main-taunus-schachvereinigung.de/index.php/termine/osterferien-6
X-ACCESS:1
X-HITS:103
X-COLOR:ff8888
X-SHOW-END-TIME:1
END:VEVENT
BEGIN:VEVENT
DTSTART;VALUE=DATE:20231227
DTEND;VALUE=DATE:20240114
UID:A97B9341-20D5-436A-B04B-C7989C2866FE
SUMMARY:Weihnachtsferien
CREATED:20230219T110849Z
DTSTAMP:20230219T110849Z
URL:https://www.main-taunus-schachvereinigung.de/index.php/termine/osterferien-7
X-ACCESS:1
X-HITS:109
X-COLOR:ff8888
X-SHOW-END-TIME:1
END:VEVENT
BEGIN:VEVENT
DTSTART;VALUE=DATE:20240325
DTEND;VALUE=DATE:20240414
UID:25BD556B-A257-46B8-9B48-756E08CD6BE0
SUMMARY:Osterferien
CREATED:20230219T110849Z
DTSTAMP:20230219T110849Z
URL:https://www.main-taunus-schachvereinigung.de/index.php/termine/osterferien-8
X-ACCESS:1
X-HITS:145
X-COLOR:ff8888
X-SHOW-END-TIME:1
END:VEVENT
BEGIN:VEVENT
DTSTART;VALUE=DATE:20240715
DTEND;VALUE=DATE:20240824
UID:BF92001C-4777-470B-9793-F80F764EDEC4
SUMMARY:Sommerferien
CREATED:20230219T110849Z
DTSTAMP:20230219T110849Z
URL:https://www.main-taunus-schachvereinigung.de/index.php/termine/osterferien-9
X-ACCESS:1
X-HITS:52
X-COLOR:ff8888
X-SHOW-END-TIME:1
END:VEVENT
BEGIN:VEVENT
DTSTART;VALUE=DATE:20250707
DTEND;VALUE=DATE:20250816
UID:3CC6E4DD-B5CC-446C-AD84-DC51AAC22C16
SUMMARY:Sommerferien
CREATED:20230219T110849Z
DTSTAMP:20230219T110849Z
URL:https://www.main-taunus-schachvereinigung.de/index.php/termine/osterferien-10
X-ACCESS:1
X-HITS:5
X-COLOR:ff8888
X-SHOW-END-TIME:1
END:VEVENT
BEGIN:VEVENT
DTSTART;VALUE=DATE:20260629
DTEND;VALUE=DATE:20260808
UID:BD8EE77A-A8B2-41EA-9CF1-01BF98F0C0C5
SUMMARY:Sommerferien
CREATED:20230219T110849Z
DTSTAMP:20230219T110849Z
URL:https://www.main-taunus-schachvereinigung.de/index.php/termine/osterferien-11
X-ACCESS:1
X-HITS:107
X-COLOR:ff8888
X-SHOW-END-TIME:1
END:VEVENT
BEGIN:VEVENT
DTSTART;VALUE=DATE:20270628
DTEND;VALUE=DATE:20270807
UID:63ACF339-4923-4623-B1C7-FC9C16A9055B
SUMMARY:Sommerferien
CREATED:20230219T110849Z
DTSTAMP:20230219T110849Z
URL:https://www.main-taunus-schachvereinigung.de/index.php/termine/osterferien-12
X-ACCESS:1
X-HITS:101
X-COLOR:ff8888
X-SHOW-END-TIME:1
END:VEVENT
BEGIN:VEVENT
DTSTART;VALUE=DATE:20280703
DTEND;VALUE=DATE:20280812
UID:78CC2FE4-FB8A-46CE-A75C-55D359540FE8
SUMMARY:Sommerferien
CREATED:20230219T110849Z
DTSTAMP:20230219T110849Z
URL:https://www.main-taunus-schachvereinigung.de/index.php/termine/osterferien-13
X-ACCESS:1
X-HITS:2
X-COLOR:ff8888
X-SHOW-END-TIME:1
END:VEVENT
END:VCALENDAR