BEGIN:VCALENDAR
VERSION:2.0
PRODID:DPCALENDAR
CALSCALE:GREGORIAN
X-WR-TIMEZONE:UTC
BEGIN:VEVENT
DTSTART;TZID=UTC:20220911T140000
DTEND;TZID=UTC:20220911T150000
UID:D1326BC3-166C-44D2-AD37-B071170F0E6E
SUMMARY:MTS-Mannschafts­kämpfe (1)
CREATED:20230218T191944Z
DTSTAMP:20230218T191944Z
URL:https://www.main-taunus-schachvereinigung.de/index.php/termine/mts-mannschaftskaempfe-1
LAST-MODIFIED:20230218T194739Z
SEQUENCE:1675
X-ACCESS:1
X-HITS:205
X-COLOR:008080
X-SHOW-END-TIME:0
END:VEVENT
BEGIN:VEVENT
DTSTART;TZID=UTC:20220925T140000
DTEND;TZID=UTC:20220925T150000
UID:2B822326-9250-4F95-97A0-4D6BF5221CAE
SUMMARY:MTS-Mannschafts­kämpfe (2)
CREATED:20230218T191944Z
DTSTAMP:20230218T191944Z
URL:https://www.main-taunus-schachvereinigung.de/index.php/termine/mts-mannschaftskaempfe-2
LAST-MODIFIED:20230218T194747Z
SEQUENCE:1683
X-ACCESS:1
X-HITS:205
X-COLOR:008080
X-SHOW-END-TIME:0
END:VEVENT
BEGIN:VEVENT
DTSTART;TZID=UTC:20221009T140000
DTEND;TZID=UTC:20221009T150000
UID:DA1B91F3-F6CA-4184-8D81-0E02B9B7B058
SUMMARY:MTS-Mannschafts­kämpfe (3)
CREATED:20230218T191944Z
DTSTAMP:20230218T191944Z
URL:https://www.main-taunus-schachvereinigung.de/index.php/termine/mts-mannschaftskaempfe-3
LAST-MODIFIED:20230218T194754Z
SEQUENCE:1690
X-ACCESS:1
X-HITS:206
X-COLOR:008080
X-SHOW-END-TIME:0
END:VEVENT
BEGIN:VEVENT
DTSTART;TZID=UTC:20221106T140000
DTEND;TZID=UTC:20221106T150000
UID:7FE0D4BE-C556-4410-8047-226250BAC2D4
SUMMARY:MTS-Mannschafts­kämpfe (4)
CREATED:20230218T191944Z
DTSTAMP:20230218T191944Z
URL:https://www.main-taunus-schachvereinigung.de/index.php/termine/mts-mannschaftskaempfe-4
LAST-MODIFIED:20230218T194804Z
SEQUENCE:1700
X-ACCESS:1
X-HITS:206
X-COLOR:008080
X-SHOW-END-TIME:0
END:VEVENT
BEGIN:VEVENT
DTSTART;TZID=UTC:20221204T140000
DTEND;TZID=UTC:20221204T150000
UID:36744CE9-F1FC-4144-ADBF-2EB4D05C698B
SUMMARY:MTS-Mannschafts­kämpfe (5)
CREATED:20230218T191944Z
DTSTAMP:20230218T191944Z
URL:https://www.main-taunus-schachvereinigung.de/index.php/termine/mts-mannschaftskaempfe-5
LAST-MODIFIED:20230218T194813Z
SEQUENCE:1709
X-ACCESS:1
X-HITS:205
X-COLOR:008080
X-SHOW-END-TIME:0
END:VEVENT
BEGIN:VEVENT
DTSTART;TZID=UTC:20230129T140000
DTEND;TZID=UTC:20230129T150000
UID:D9A8220C-3C83-4DF4-8A93-ED525186C820
SUMMARY:MTS-Blitz-MM
CREATED:20230218T191944Z
DTSTAMP:20230218T191944Z
URL:https://www.main-taunus-schachvereinigung.de/index.php/termine/mts-mannschaftskaempfe-10
LAST-MODIFIED:20230218T192232Z
SEQUENCE:168
X-ACCESS:1
X-HITS:206
X-COLOR:008080
X-SHOW-END-TIME:0
END:VEVENT
BEGIN:VEVENT
DTSTART;TZID=UTC:20230211T150000
DTEND;TZID=UTC:20230211T160000
UID:D1D67578-B32C-4EFA-AA97-27E28E89063C
SUMMARY:MTS-Mitglieder­versammlung
CREATED:20230218T191944Z
DTSTAMP:20230218T191944Z
URL:https://www.main-taunus-schachvereinigung.de/index.php/termine/mts-mannschaftskaempfe-11
LAST-MODIFIED:20230218T194834Z
SEQUENCE:1730
X-ACCESS:1
X-HITS:206
X-COLOR:008080
X-SHOW-END-TIME:0
END:VEVENT
BEGIN:VEVENT
DTSTART;TZID=UTC:20230212T140000
DTEND;TZID=UTC:20230212T150000
UID:52FD04AE-EB05-4AE0-9122-9FE3FFF219AF
SUMMARY:MTS-Mannschafts­kämpfe (6)
CREATED:20230218T191944Z
DTSTAMP:20230218T191944Z
URL:https://www.main-taunus-schachvereinigung.de/index.php/termine/mts-mannschaftskaempfe-6
LAST-MODIFIED:20230218T194731Z
SEQUENCE:1667
X-ACCESS:1
X-HITS:209
X-COLOR:008080
X-SHOW-END-TIME:0
END:VEVENT
BEGIN:VEVENT
DTSTART;TZID=UTC:20230305T140000
DTEND;TZID=UTC:20230305T150000
UID:628F0D06-AC4E-44DA-A84B-D215276433C9
SUMMARY:MTS-Mannschafts­kämpfe (7)
CREATED:20230218T191944Z
DTSTAMP:20230218T191944Z
URL:https://www.main-taunus-schachvereinigung.de/index.php/termine/mts-mannschaftskaempfe-7
LAST-MODIFIED:20230218T194600Z
SEQUENCE:1576
X-ACCESS:1
X-HITS:273
X-COLOR:008080
X-SHOW-END-TIME:0
END:VEVENT
BEGIN:VEVENT
DTSTART;TZID=UTC:20230326T140000
DTEND;TZID=UTC:20230326T150000
UID:5CEE7B31-FA47-408F-8731-E8EA138865FF
SUMMARY:MTS-Mannschafts­kämpfe (8)
CREATED:20230218T191944Z
DTSTAMP:20230218T191944Z
URL:https://www.main-taunus-schachvereinigung.de/index.php/termine/mts-mannschaftskaempfe-8
LAST-MODIFIED:20230218T194704Z
SEQUENCE:1640
X-ACCESS:1
X-HITS:263
X-COLOR:008080
X-SHOW-END-TIME:0
END:VEVENT
BEGIN:VEVENT
DTSTART;TZID=UTC:20230507T140000
DTEND;TZID=UTC:20230507T150000
UID:7BFBFE55-DE5A-47E9-A98E-5EE610FC7098
SUMMARY:MTS-Mannschafts­kämpfe (9)
CREATED:20230218T191944Z
DTSTAMP:20230218T191944Z
URL:https://www.main-taunus-schachvereinigung.de/index.php/termine/mts-mannschaftskaempfe-9
LAST-MODIFIED:20230218T194655Z
SEQUENCE:1631
X-ACCESS:1
X-HITS:273
X-COLOR:008080
X-SHOW-END-TIME:0
END:VEVENT
BEGIN:VEVENT
DTSTART;VALUE=DATE:20230604
DTEND;VALUE=DATE:20230605
UID:25458B99-E145-49DC-862C-58DD678BA21F
SUMMARY:22. Ryszard Dyga Jugend-Open
CREATED:20230529T151651Z
DTSTAMP:20230529T151651Z
URL:https://sv1920hofheim.de/schach/jugend_open.php?AW=8
LAST-MODIFIED:20230529T152138Z
SEQUENCE:287
LOCATION:11 Ahornstraße\, Hofheim am Taunus\, Hessen 65719\, Deutschland
GEO:50.06710635;8.43093156
X-LOCATION-DISPLAYNAME:Deutschland, Hessen, Main-Taunus-Kreis, Hofheim am Taunus, 65719, Ahornstraße, 11
X-ACCESS:1
X-HITS:15
X-COLOR:008080
X-SHOW-END-TIME:1
END:VEVENT
BEGIN:VEVENT
DTSTART;VALUE=DATE:20230604
DTEND;VALUE=DATE:20230605
UID:28178A34-2A30-42BD-B3AC-41DC4636C1E0
SUMMARY:9. Hofheimer Schnellschach-Pokal
CREATED:20230529T152056Z
DTSTAMP:20230529T152056Z
URL:https://sv1920hofheim.de/schach/offene_turniere_schnellschach.php?AW=6
LAST-MODIFIED:20230529T152118Z
SEQUENCE:22
LOCATION:11 Ahornstraße\, Hofheim am Taunus\, Hessen 65719\, Deutschland
GEO:50.06710635;8.43093156
X-LOCATION-DISPLAYNAME:Deutschland, Hessen, Main-Taunus-Kreis, Hofheim am Taunus, 65719, Ahornstraße, 11
X-ACCESS:1
X-HITS:55
X-COLOR:008080
X-SHOW-END-TIME:1
END:VEVENT
BEGIN:VEVENT
DTSTART;TZID=UTC:20230624T140000
DTEND;TZID=UTC:20230624T173000
UID:C5715465-66D5-4956-B7A4-8BE373DB72C1
SUMMARY:MTS-Blitz-Einzelmeisterschaften
CREATED:20230404T191407Z
DTSTAMP:20230404T191407Z
URL:images/pics/BlitzEM2023/Ausschreibung%20Blitz%20EM%202023.pdf
LAST-MODIFIED:20230404T191907Z
SEQUENCE:300
LOCATION:26-28 Moselstraße\, Kelsterbach\, Hessen 65451\, Deutschland
GEO:50.05861645;8.53142925
X-LOCATION-DISPLAYNAME:Deutschland, Hessen, Kreis Groß-Gerau, Kelsterbach, 65451, Moselstraße, 26-28
X-ACCESS:1
X-HITS:346
X-COLOR:008080
X-SHOW-END-TIME:1
END:VEVENT
BEGIN:VEVENT
DTSTART;VALUE=DATE:20230701
DTEND;VALUE=DATE:20230702
UID:3ED21D12-BD04-4077-8326-B02CC5CDA6E3
SUMMARY:Youth Classic 2023
CREATED:20230508T180609Z
DTSTAMP:20230508T180609Z
URL:https://yc23.main-taunus-schachvereinigung.de
LAST-MODIFIED:20230508T180749Z
SEQUENCE:100
LOCATION:Gartenstraße\, Bad Soden am Taunus\, Hessen 65812\, Deutschland
GEO:50.14010810;8.50216265
X-LOCATION-DISPLAYNAME:Deutschland, Hessen, Main-Taunus-Kreis, Bad Soden am Taunus, 65812, Gartenstraße
X-ACCESS:1
X-HITS:545
X-COLOR:008080
X-IMAGE-FULL:https://www.main-taunus-schachvereinigung.de/images/YC23/YC2023logo_klein.jpg
X-IMAGE-INTRO:https://www.main-taunus-schachvereinigung.de/images/YC23/YC2023logo_klein.jpg
X-SHOW-END-TIME:0
END:VEVENT
BEGIN:VEVENT
DTSTART;VALUE=DATE:20230702
DTEND;VALUE=DATE:20230703
UID:0BE1DC54-8B81-4A0F-9CAB-EE6EAB6876AF
SUMMARY:8. Offene Deutsche Meisterschaften Chess960 Schnellschach
CREATED:20230508T181028Z
DTSTAMP:20230508T181028Z
URL:https://www.main-taunus-schachvereinigung.de/index.php/termine/8-offene-deutsche-meisterschaften-chess960-schnellschach
LOCATION:Gartenstraße\, Bad Soden am Taunus\, Hessen 65812\, Deutschland
GEO:50.14010810;8.50216265
X-LOCATION-DISPLAYNAME:Deutschland, Hessen, Main-Taunus-Kreis, Bad Soden am Taunus, 65812, Gartenstraße
X-ACCESS:1
X-HITS:440
X-COLOR:008080
X-IMAGE-FULL:https://www.main-taunus-schachvereinigung.de/images/C960_23/C96023logo_klein.jpg
X-SHOW-END-TIME:1
END:VEVENT
BEGIN:VEVENT
DTSTART;VALUE=DATE:20230708
DTEND;VALUE=DATE:20230709
UID:7C5CDB26-3C24-4292-9264-9C923CCA622F
SUMMARY:Turnierleitersitzung
CREATED:20230328T193808Z
DTSTAMP:20230328T193808Z
URL:https://www.main-taunus-schachvereinigung.de/index.php/termine/turnierleitersitzung
X-ACCESS:1
X-HITS:257
X-COLOR:008080
X-SHOW-END-TIME:1
END:VEVENT
BEGIN:VEVENT
DTSTART;TZID=UTC:20230910T140000
DTEND;TZID=UTC:20230910T140000
UID:1C2F306A-12F2-4FAB-B8EC-0882D3E46881
SUMMARY:MTS-Mannschafts­kämpfe (1)
CREATED:20230220T190955Z
DTSTAMP:20230220T190955Z
URL:https://www.main-taunus-schachvereinigung.de/index.php/termine/mts-mannschafts-kaempfe-1
LAST-MODIFIED:20230220T191310Z
SEQUENCE:195
X-ACCESS:1
X-HITS:206
X-COLOR:008080
X-SHOW-END-TIME:1
END:VEVENT
BEGIN:VEVENT
DTSTART;TZID=UTC:20231015T140000
DTEND;TZID=UTC:20231015T140000
UID:7DDDE44B-5C68-44F5-88FD-4BBBE9EC7305
SUMMARY:MTS-Mannschafts­kämpfe (3)
CREATED:20230220T190955Z
DTSTAMP:20230220T190955Z
URL:https://www.main-taunus-schachvereinigung.de/index.php/termine/mts-mannschafts-kaempfe-3
LAST-MODIFIED:20230220T191310Z
SEQUENCE:195
X-ACCESS:1
X-HITS:207
X-COLOR:008080
X-SHOW-END-TIME:1
END:VEVENT
BEGIN:VEVENT
DTSTART;TZID=UTC:20231105T140000
DTEND;TZID=UTC:20231105T140000
UID:F75A783D-17DB-4A12-9F84-858514F6CDC5
SUMMARY:MTS-Mannschafts­kämpfe (4)
CREATED:20230220T190955Z
DTSTAMP:20230220T190955Z
URL:https://www.main-taunus-schachvereinigung.de/index.php/termine/mts-mannschafts-kaempfe-4
LAST-MODIFIED:20230220T191310Z
SEQUENCE:195
X-ACCESS:1
X-HITS:237
X-COLOR:008080
X-SHOW-END-TIME:1
END:VEVENT
BEGIN:VEVENT
DTSTART;TZID=UTC:20231217T140000
DTEND;TZID=UTC:20231217T140000
UID:A5D44273-FA07-484C-A27D-A35B2CA8C025
SUMMARY:MTS-Mannschafts­kämpfe (5)
CREATED:20230220T190955Z
DTSTAMP:20230220T190955Z
URL:https://www.main-taunus-schachvereinigung.de/index.php/termine/mts-mannschafts-kaempfe-5
LAST-MODIFIED:20230220T191310Z
SEQUENCE:195
X-ACCESS:1
X-HITS:315
X-COLOR:008080
X-SHOW-END-TIME:1
END:VEVENT
BEGIN:VEVENT
DTSTART;TZID=UTC:20240121T140000
DTEND;TZID=UTC:20240121T140000
UID:FAE64D83-A13A-43F6-AD24-BE578B8AC974
SUMMARY:MTS-Mannschafts­kämpfe (6)
CREATED:20230220T190955Z
DTSTAMP:20230220T190955Z
URL:https://www.main-taunus-schachvereinigung.de/index.php/termine/mts-mannschafts-kaempfe-6
LAST-MODIFIED:20230220T191310Z
SEQUENCE:195
X-ACCESS:1
X-HITS:265
X-COLOR:008080
X-SHOW-END-TIME:1
END:VEVENT
BEGIN:VEVENT
DTSTART;TZID=UTC:20240128T140000
DTEND;TZID=UTC:20240128T140000
UID:D9D680CC-F027-426A-97B4-FEFE9D141032
SUMMARY:MTS-Blitz-Mannschaftsmeisterschaft
CREATED:20230220T190955Z
DTSTAMP:20230220T190955Z
URL:https://www.main-taunus-schachvereinigung.de/index.php/termine/blitz-mannschaftsmeisterschaft
LAST-MODIFIED:20231105T141622Z
SEQUENCE:22273587
LOCATION:2 Rotlintallee\, Kelkheim\, Hessen 65779\, Deutschland
GEO:50.14639060;8.45046440
X-LOCATION-DISPLAYNAME:Deutschland, Hessen, Main-Taunus-Kreis, Kelkheim, 65779, Rotlintallee, 2
X-ACCESS:1
X-HITS:383
X-COLOR:008080
X-SHOW-END-TIME:1
END:VEVENT
BEGIN:VEVENT
DTSTART;TZID=UTC:20240217T150000
DTEND;TZID=UTC:20240217T160000
UID:248BBBD9-CCBA-4F19-A39D-1CCD17FE9AB8
SUMMARY:MTS Mitgliederversammlung
CREATED:20231217T111018Z
DTSTAMP:20231217T111018Z
URL:https://www.main-taunus-schachvereinigung.de/index.php/termine/mts-mitgliederversammlung
DESCRIPTION:Einladung zur Mitgliederversammlung 2024 der Main-Taunus-Schachvereinigung (MTS)\N13. Dezember 2023\NLiebe Schachvereine des Bezirks 7, \Nhiermit lädt der Vorstand der MTS alle Schachvereine des Bezirks 7 zur ordentlichen Mitgliederversammlung 2023 ein. Dies ist eine Pflichtsitzung für alle Vereine.\NTermin: 17.02.2024Ort: 64521 Groß-Gerau, Altes Amtsgericht obere Etage, Darmstädter Str. 31Beginn: 15 Uhr\NTagesordnung:1. Begrüßung und Feststellung der Stimmberechtigung und Beschlussfähigkeit2. Ehrungen und Gedenken3. Genehmigung des Protokolls 20234. Berichte der Vorstandsmitglieder5. Bericht Kassenprüfer6. Entlastung des Vorstands• Kassierer• Restvorstand7. Wahlen gemäß der Satzung• 1. Vorsitzender• Schriftführer• Turnierleiter für Mannschaftskämpfe• Wertungszahl-Bearbeiter• Medienwart• Seniorenwart8. Wahl der Kassenprüfer9. Festsetzung der Höhe des Mitgliedsbeitrags10. Erläuterung der bisherigen und geplanten Vorstandsaktivitäten, um die Main-Taunus-Schachvereinigung in einen eingetragenen gemeinnützigen Verein zu transformieren11. 100-jähriges Jubiläum der MTS im Jahr 202512. Beratung und Beschlussfassung zu gestellten Anträgen13. Mitteilungen aus den Vereinen und sonstige Themen\NMit freundlichen GrüßenClaus Henrici,Vorsitzender der MTSE-Mail: claus.henrici@t-online.de
X-ALT-DESC;FMTTYPE=text/html:<h1>Einladung zur Mitgliederversammlung 2024 der Main-Taunus-Schachvereinigung (MTS)</h1><p>13. Dezember 2023</p><p>Liebe Schachvereine des Bezirks 7, </p><p>hiermit lädt der Vorstand der MTS alle Schachvereine des Bezirks 7 zur ordentlichen Mitgliederversammlung 2023 ein. Dies ist eine Pflichtsitzung für alle Vereine.</p><p>Termin: 17.02.2024<br />Ort: 64521 Groß-Gerau, Altes Amtsgericht obere Etage, Darmstädter Str. 31<br />Beginn: 15 Uhr</p><p>Tagesordnung:<br />1. Begrüßung und Feststellung der Stimmberechtigung und Beschlussfähigkeit<br />2. Ehrungen und Gedenken<br />3. Genehmigung des Protokolls 2023<br />4. Berichte der Vorstandsmitglieder<br />5. Bericht Kassenprüfer<br />6. Entlastung des Vorstands<br />• Kassierer<br />• Restvorstand<br />7. Wahlen gemäß der Satzung<br />• 1. Vorsitzender<br />• Schriftführer<br />• Turnierleiter für Mannschaftskämpfe<br />• Wertungszahl-Bearbeiter<br />• Medienwart<br />• Seniorenwart<br />8. Wahl der Kassenprüfer<br />9. Festsetzung der Höhe des Mitgliedsbeitrags<br />10. Erläuterung der bisherigen und geplanten Vorstandsaktivitäten, um die Main-Taunus-Schachvereinigung in einen eingetragenen gemeinnützigen Verein zu transformieren<br />11. 100-jähriges Jubiläum der MTS im Jahr 2025<br />12. Beratung und Beschlussfassung zu gestellten Anträgen<br />13. Mitteilungen aus den Vereinen und sonstige Themen</p><p>Mit freundlichen Grüßen<br />Claus Henrici,<br />Vorsitzender der MTS<br />E-Mail: claus.henrici@t-online.de</p>
LAST-MODIFIED:20231217T111355Z
SEQUENCE:217
LOCATION:31 Darmstädter Straße\, Groß-Gerau\, Hessen 64521\, Deutschland
GEO:49.91931550;8.48587540
X-LOCATION-DISPLAYNAME:Deutschland, Hessen, Kreis Groß-Gerau, Groß-Gerau, 64521, Darmstädter Straße, 31
X-ACCESS:1
X-HITS:329
X-COLOR:008080
X-SHOW-END-TIME:0
END:VEVENT
BEGIN:VEVENT
DTSTART;TZID=UTC:20240303T140000
DTEND;TZID=UTC:20240303T140000
UID:14093AF0-8C81-4735-820D-C706E0441328
SUMMARY:MTS-Mannschafts­kämpfe (7)
CREATED:20230220T190955Z
DTSTAMP:20230220T190955Z
URL:https://www.main-taunus-schachvereinigung.de/index.php/termine/mts-mannschafts-kaempfe-7
LAST-MODIFIED:20230220T191310Z
SEQUENCE:195
X-ACCESS:1
X-HITS:266
X-COLOR:008080
X-SHOW-END-TIME:1
END:VEVENT
BEGIN:VEVENT
DTSTART;TZID=UTC:20240421T140000
DTEND;TZID=UTC:20240421T140000
UID:A49DF848-A5FB-4F78-AAC2-CE7936654DC6
SUMMARY:MTS-Mannschafts­kämpfe (8)
CREATED:20230220T190955Z
DTSTAMP:20230220T190955Z
URL:https://www.main-taunus-schachvereinigung.de/index.php/termine/mts-mannschafts-kaempfe-8
LAST-MODIFIED:20230220T191310Z
SEQUENCE:195
X-ACCESS:1
X-HITS:275
X-COLOR:008080
X-SHOW-END-TIME:1
END:VEVENT
BEGIN:VEVENT
DTSTART;TZID=UTC:20240526T140000
DTEND;TZID=UTC:20240526T140000
UID:66CE004C-FBE0-4178-A73A-94AED6B75056
SUMMARY:MTS-Mannschafts­kämpfe (9)
CREATED:20230220T190955Z
DTSTAMP:20230220T190955Z
URL:https://www.main-taunus-schachvereinigung.de/index.php/termine/mts-mannschafts-kaempfe-9
LAST-MODIFIED:20230220T191310Z
SEQUENCE:195
X-ACCESS:1
X-HITS:261
X-COLOR:008080
X-SHOW-END-TIME:1
END:VEVENT
BEGIN:VEVENT
DTSTART;TZID=UTC:20240615T150000
DTEND;TZID=UTC:20240615T170000
UID:9A939F46-2FD3-4F72-8D72-2E29F997224B
SUMMARY:Freiwilliger MTS-Stammtisch bei Kaffee und Kuchen in Groß-Gerau
CREATED:20240512T204801Z
DTSTAMP:20240512T204801Z
URL:https://www.main-taunus-schachvereinigung.de/index.php/termine/freiwilliger-mts-stammtisch-bei-kaffee-und-kuchen-in-gross-gerau-2
LAST-MODIFIED:20240512T204927Z
SEQUENCE:86
LOCATION:31 Darmstädter Straße\, Groß-Gerau\, Hessen 64521\, Deutschland
GEO:49.91931550;8.48587540
X-LOCATION-DISPLAYNAME:Deutschland, Hessen, Kreis Groß-Gerau, Groß-Gerau, 64521, Darmstädter Straße, 31
X-ACCESS:1
X-HITS:340
X-COLOR:008080
X-SHOW-END-TIME:1
END:VEVENT
BEGIN:VEVENT
DTSTART;VALUE=DATE:20240713
DTEND;VALUE=DATE:20240714
UID:C11FE31B-57EF-416D-BCE9-8BD19937D4EA
SUMMARY:MTSJ Jugend Blitz Einzelmeisterschaft
CREATED:20240305T184233Z
DTSTAMP:20240305T184233Z
URL:https://www.main-taunus-schachvereinigung.de/index.php/termine/mtsj-jugend-blitz-einzelmeisterschaft
LOCATION:17 Bechtenwaldstraße\, Frankfurt am Main\, Hessen 65931\, Deutschland
GEO:50.09793365;8.49940513
X-LOCATION-DISPLAYNAME:Stadthalle Zeilsheim
X-ACCESS:1
X-HITS:335
X-COLOR:008080
X-SHOW-END-TIME:0
END:VEVENT
BEGIN:VEVENT
DTSTART;TZID=UTC:20240903T193000
DTEND;TZID=UTC:20240903T203000
UID:401252B5-DF09-40FA-A75A-3A065D40C5CE
SUMMARY:virtuelle Mitgliederversammlung
CREATED:20240814T182927Z
DTSTAMP:20240814T182927Z
URL:https://www.main-taunus-schachvereinigung.de/index.php/termine/virtuelle-mitgliederversammlung
X-ACCESS:1
X-HITS:157
X-COLOR:008080
X-SHOW-END-TIME:1
END:VEVENT
BEGIN:VEVENT
DTSTART;VALUE=DATE:20241025
DTEND;VALUE=DATE:20241028
UID:DF8B7517-E1F7-4E46-B4F0-513491507DB1
SUMMARY:MTS-Einzelmeisterschaft
CREATED:20230220T190955Z
DTSTAMP:20230220T190955Z
URL:https://www.main-taunus-schachvereinigung.de/index.php/termine/mts-einzelmeisterschaft
DESCRIPTION:Ausschreibung MTS-Einzelmeisterschaft 2024 in Groß-Gerau
X-ALT-DESC;FMTTYPE=text/html:<p><a href="https://www.main-taunus-schachvereinigung.de/index.php?view=article&id=179:ausschreibung-mts-einzelmeisterschaft-in-gross-gerau&catid=2">Ausschreibung MTS-Einzelmeisterschaft 2024 in Groß-Gerau</a></p>
LAST-MODIFIED:20240512T205935Z
SEQUENCE:38627380
X-ACCESS:1
X-HITS:590
X-COLOR:008080
X-SHOW-END-TIME:1
END:VEVENT
BEGIN:VEVENT
DTSTART;TZID=UTC:20250126T140000
DTEND;TZID=UTC:20250126T150000
UID:BB68D7A2-7D36-4C8C-8D29-749CEED62BF2
SUMMARY:Blitz-Mannschaftsmeisterschaft
CREATED:20240622T204834Z
DTSTAMP:20240622T204834Z
URL:https://www.main-taunus-schachvereinigung.de/index.php/termine/blitz-mannschaftsmeisterschaft-2
X-ACCESS:1
X-HITS:256
X-COLOR:008080
X-SHOW-END-TIME:0
END:VEVENT
BEGIN:VEVENT
DTSTART;TZID=UTC:20250215T150000
DTEND;TZID=UTC:20250215T160000
UID:B145A804-9FD2-477D-805D-6D5121CF8F57
SUMMARY:Mitgliederversammlung
CREATED:20240811T195748Z
DTSTAMP:20240811T195748Z
URL:https://www.main-taunus-schachvereinigung.de/index.php/termine/mitgliederversammlung
LAST-MODIFIED:20250202T220552Z
SEQUENCE:15127684
LOCATION:31 Darmstädter Straße\, Groß-Gerau\, Hessen 64521\, Deutschland
GEO:49.91931550;8.48587540
X-LOCATION-DISPLAYNAME:Deutschland, Hessen, Kreis Groß-Gerau, Groß-Gerau, 64521, Darmstädter Straße, 31
X-ACCESS:1
X-HITS:225
X-COLOR:008080
X-SHOW-END-TIME:0
END:VEVENT
BEGIN:VEVENT
DTSTART;VALUE=DATE:20250517
DTEND;VALUE=DATE:20250518
UID:98976D8B-F456-40EB-BE2C-8A35FA501DDA
SUMMARY:MTSJ Jugend Blitz Einzelmeisterschaft
CREATED:20240305T184233Z
DTSTAMP:20240305T184233Z
URL:https://www.main-taunus-schachvereinigung.de/index.php/termine/mtsj-jugend-blitz-einzelmeisterschaft-2
LOCATION:17 Bechtenwaldstraße\, Frankfurt am Main\, Hessen 65931\, Deutschland
GEO:50.09793365;8.49940513
X-LOCATION-DISPLAYNAME:Stadthalle Zeilsheim
X-ACCESS:1
X-HITS:321
X-COLOR:008080
X-SHOW-END-TIME:0
END:VEVENT
BEGIN:VEVENT
DTSTART;VALUE=DATE:20250817
DTEND;VALUE=DATE:20250818
UID:58B9E844-0825-4529-BDF6-8FA0E2EE5F3B
SUMMARY:Meldeschluss Mannschaftsaufstellungen
CREATED:20250730T210501Z
DTSTAMP:20250730T210501Z
URL:https://www.main-taunus-schachvereinigung.de/index.php/termine/meldeschluss-mannschaftsaufstellungen
LAST-MODIFIED:20250730T210501Z
SEQUENCE:0
X-ACCESS:1
X-HITS:22
X-COLOR:008080
X-SHOW-END-TIME:1
END:VEVENT
BEGIN:VEVENT
DTSTART;TZID=UTC:20250824T100000
DTEND;TZID=UTC:20250824T180000
UID:CBABBB3D-205A-449B-B81B-466052AE73D5
SUMMARY:MTS-Generationenturnier
CREATED:20250710T193255Z
DTSTAMP:20250710T193255Z
URL:https://www.main-taunus-schachvereinigung.de/index.php/termine/mts-generationenturnier
DESCRIPTION:Ausschreibung
X-ALT-DESC;FMTTYPE=text/html:<p><a href="https://www.main-taunus-schachvereinigung.de/images/Ausschreibungen/Ausschreibung-Generationenturnier.pdf">Ausschreibung</a></p>
LAST-MODIFIED:20250710T193727Z
SEQUENCE:272
LOCATION:17 Bechtenwaldstraße\, Frankfurt am Main\, Hessen 65931\, Deutschland
GEO:50.09793365;8.49940513
X-LOCATION-DISPLAYNAME:Stadthalle Zeilsheim
X-ACCESS:1
X-HITS:53
X-COLOR:008080
X-SHOW-END-TIME:1
END:VEVENT
BEGIN:VEVENT
DTSTART;TZID=UTC:20250914T140000
DTEND;TZID=UTC:20250914T150000
UID:ABC5CCB1-D7CF-452E-8953-46683F3A16A2
SUMMARY:MTS-Mannschaftsrunde (1)
CREATED:20250909T202522Z
DTSTAMP:20250909T202522Z
URL:https://www.main-taunus-schachvereinigung.de/index.php/termine/mts-mannschaftsrunde-1
LAST-MODIFIED:20250909T202522Z
SEQUENCE:0
X-ACCESS:1
X-HITS:32
X-COLOR:008080
X-SHOW-END-TIME:0
END:VEVENT
BEGIN:VEVENT
DTSTART;TZID=UTC:20250928T140000
DTEND;TZID=UTC:20250928T150000
UID:7BEB7442-E950-4697-BD24-AF9A9220B2B8
SUMMARY:MTS-Mannschaftsrunde (2)
CREATED:20250909T202522Z
DTSTAMP:20250909T202522Z
URL:https://www.main-taunus-schachvereinigung.de/index.php/termine/mts-mannschaftsrunde-2
LAST-MODIFIED:20250909T202551Z
SEQUENCE:29
X-ACCESS:1
X-HITS:40
X-COLOR:008080
X-SHOW-END-TIME:0
END:VEVENT
BEGIN:VEVENT
DTSTART;TZID=UTC:20251026T140000
DTEND;TZID=UTC:20251026T150000
UID:3CEEB211-5D4B-4A2A-B9FB-831947DC35DF
SUMMARY:MTS-Mannschaftsrunde (3)
CREATED:20250909T202522Z
DTSTAMP:20250909T202522Z
URL:https://www.main-taunus-schachvereinigung.de/index.php/termine/mts-mannschaftsrunde-3
LAST-MODIFIED:20250909T202619Z
SEQUENCE:57
X-ACCESS:1
X-HITS:27
X-COLOR:008080
X-SHOW-END-TIME:0
END:VEVENT
BEGIN:VEVENT
DTSTART;TZID=UTC:20251109T140000
DTEND;TZID=UTC:20251109T150000
UID:1984ABEC-C69F-42EA-9475-2540509D6717
SUMMARY:MTS-Mannschaftsrunde (4)
CREATED:20250909T202522Z
DTSTAMP:20250909T202522Z
URL:https://www.main-taunus-schachvereinigung.de/index.php/termine/mts-mannschaftsrunde-4
LAST-MODIFIED:20250909T202728Z
SEQUENCE:126
X-ACCESS:1
X-HITS:37
X-COLOR:008080
X-SHOW-END-TIME:0
END:VEVENT
BEGIN:VEVENT
DTSTART;TZID=UTC:20251214T140000
DTEND;TZID=UTC:20251214T150000
UID:FFE00A9A-0A58-4722-90A9-C80BBF4D0ACC
SUMMARY:MTS-Mannschaftsrunde (5)
CREATED:20250909T202522Z
DTSTAMP:20250909T202522Z
URL:https://www.main-taunus-schachvereinigung.de/index.php/termine/mts-mannschaftsrunde-5
LAST-MODIFIED:20250909T202738Z
SEQUENCE:136
X-ACCESS:1
X-HITS:23
X-COLOR:008080
X-SHOW-END-TIME:0
END:VEVENT
BEGIN:VEVENT
DTSTART;TZID=UTC:20260124T140000
DTEND;TZID=UTC:20260124T173000
UID:ABB54AF5-4FD4-413C-997F-6B7E7700C8D4
SUMMARY:MTS-Blitz-Mannschaftsmeisterschaften
CREATED:20251203T201550Z
DTSTAMP:20251203T201550Z
URL:https://www.main-taunus-schachvereinigung.de/index.php/termine/mts-blitz-mannschaftsmeisterschaften
LAST-MODIFIED:20251203T201550Z
SEQUENCE:0
LOCATION:2 Rotlintallee\, Kelkheim\, Hessen 65779\, Deutschland
GEO:50.14639060;8.45046440
X-LOCATION-DISPLAYNAME:Deutschland, Hessen, Main-Taunus-Kreis, Kelkheim, 65779, Rotlintallee, 2
X-ACCESS:1
X-HITS:106
X-COLOR:008080
X-SHOW-END-TIME:1
END:VEVENT
BEGIN:VEVENT
DTSTART;TZID=UTC:20260201T140000
DTEND;TZID=UTC:20260201T150000
UID:6FB61B6B-E95F-406B-9460-ED922404F01C
SUMMARY:MTS-Mannschaftsrunde (6)
CREATED:20250909T202522Z
DTSTAMP:20250909T202522Z
URL:https://www.main-taunus-schachvereinigung.de/index.php/termine/mts-mannschaftsrunde-6
LAST-MODIFIED:20250909T202755Z
SEQUENCE:153
X-ACCESS:1
X-HITS:13
X-COLOR:008080
X-SHOW-END-TIME:0
END:VEVENT
BEGIN:VEVENT
DTSTART;TZID=UTC:20260301T150000
DTEND;TZID=UTC:20260301T160000
UID:883BEA6A-6A4D-4ADF-9F00-8023E95E49EB
SUMMARY:Mitgliederversammlung der MTS
CREATED:20260210T191038Z
DTSTAMP:20260210T191038Z
URL:https://www.main-taunus-schachvereinigung.de/index.php/termine/mitgliederversammlung-der-mts
DESCRIPTION:Ffm, den 12.12.2025\NLiebe Schachvereine des Bezirks 7,\Nhiermit lädt der Vorstand der MTS alle Schachvereine des Bezirks 7 zur ordentlichen Mitgliederversammlung 2026 ein. Dies ist eine Pflichtsitzung für alle Vereine.\NTermin: 1.3.26 - Beginn: 15 Uhr\NOrt: Frankfurt-Zeilsheim, Bürgerhaus Saalbau, Bechtenwaldstr. 17, Raum Hohe Kanzel\NTagesordnung:1. Begrüßung und Feststellung der Stimmberechtigung und Beschlussfähigkeit2. Ehrungen und Gedenken3. Genehmigung des Protokolls der Mitgliederversammlung 20254. Berichte der Vorstandsmitglieder5. Bericht Kassenprüfer6. Entlastung des Vorstands• Kassierer• Restvorstand7. Wahlen gemäß der Satzung• 1. Vorsitzender• Schriftführer• Turnierleiter für Mannschaftkämpfe• Wertungszahl-Bearbeiter• Damenwart• Seniorenwart8. Wahl der Kassenprüfer9. Festsetzung der Höhe des Mitgliedsbeitrags10. Beratung und Beschlussfassung zu gestellten Anträgen(Anträge sind gemäß der MTS-Satzung textlich und fristgerecht zu stellen)11. Mitteilungen aus den Vereinen und sonstige Themen\NMit freundlichen GrüßenClaus Henrici,Vorsitzender der MTSE-Mail: vorsitzender@main-taunus-schachvereinigung.de
X-ALT-DESC;FMTTYPE=text/html:<p style="text-align: right;">Ffm, den 12.12.2025</p><p>Liebe Schachvereine des Bezirks 7,</p><p>hiermit lädt der Vorstand der MTS alle Schachvereine des Bezirks 7 zur ordentlichen Mitgliederversammlung 2026 ein. Dies ist eine Pflichtsitzung für alle Vereine.</p><p>Termin: 1.3.26 - Beginn: 15 Uhr</p><p>Ort: Frankfurt-Zeilsheim, Bürgerhaus Saalbau, Bechtenwaldstr. 17, Raum Hohe Kanzel</p><p>Tagesordnung:<br />1. Begrüßung und Feststellung der Stimmberechtigung und Beschlussfähigkeit<br />2. Ehrungen und Gedenken<br />3. Genehmigung des Protokolls der Mitgliederversammlung 2025<br />4. Berichte der Vorstandsmitglieder<br />5. Bericht Kassenprüfer<br />6. Entlastung des Vorstands<br />• Kassierer<br />• Restvorstand<br />7. Wahlen gemäß der Satzung<br />• 1. Vorsitzender<br />• Schriftführer<br />• Turnierleiter für Mannschaftkämpfe<br />• Wertungszahl-Bearbeiter<br />• Damenwart<br />• Seniorenwart<br />8. Wahl der Kassenprüfer<br />9. Festsetzung der Höhe des Mitgliedsbeitrags<br />10. Beratung und Beschlussfassung zu gestellten Anträgen<br />(Anträge sind gemäß der MTS-Satzung textlich und fristgerecht zu stellen)<br />11. Mitteilungen aus den Vereinen und sonstige Themen</p><p>Mit freundlichen Grüßen<br />Claus Henrici,<br />Vorsitzender der MTS<br />E-Mail: <a href="mailto:vorsitzender@main-taunus-schachvereinigung.de">vorsitzender@main-taunus-schachvereinigung.de</a></p>
LAST-MODIFIED:20260210T192414Z
SEQUENCE:816
X-ACCESS:1
X-HITS:18
X-COLOR:008080
X-SHOW-END-TIME:0
END:VEVENT
BEGIN:VEVENT
DTSTART;TZID=UTC:20260308T140000
DTEND;TZID=UTC:20260308T150000
UID:8266F485-633C-4FDE-81CE-BC268879412D
SUMMARY:MTS-Mannschaftsrunde (7)
CREATED:20250909T202522Z
DTSTAMP:20250909T202522Z
URL:https://www.main-taunus-schachvereinigung.de/index.php/termine/mts-mannschaftsrunde-7
LAST-MODIFIED:20250909T202817Z
SEQUENCE:175
X-ACCESS:1
X-HITS:23
X-COLOR:008080
X-SHOW-END-TIME:0
END:VEVENT
BEGIN:VEVENT
DTSTART;TZID=UTC:20260322T140000
DTEND;TZID=UTC:20260322T150000
UID:8366B98F-D070-4D1F-99B8-3D5C319A162D
SUMMARY:MTS-Mannschaftsrunde (8)
CREATED:20250909T202522Z
DTSTAMP:20250909T202522Z
URL:https://www.main-taunus-schachvereinigung.de/index.php/termine/mts-mannschaftsrunde-8
LAST-MODIFIED:20250909T202834Z
SEQUENCE:192
X-ACCESS:1
X-HITS:31
X-COLOR:008080
X-SHOW-END-TIME:0
END:VEVENT
BEGIN:VEVENT
DTSTART;TZID=UTC:20260426T140000
DTEND;TZID=UTC:20260426T150000
UID:6EEBAF9F-88C7-4AC3-9011-B16397BC0264
SUMMARY:MTS-Mannschaftsrunde (9)
CREATED:20250909T202522Z
DTSTAMP:20250909T202522Z
URL:https://www.main-taunus-schachvereinigung.de/index.php/termine/mts-mannschaftsrunde-9
LAST-MODIFIED:20250909T202850Z
SEQUENCE:208
X-ACCESS:1
X-HITS:12
X-COLOR:008080
X-SHOW-END-TIME:0
END:VEVENT
BEGIN:VEVENT
DTSTART;TZID=UTC:20260523T140000
DTEND;TZID=UTC:20260523T150000
UID:69FDBE0F-64E1-45E6-A6A3-B3C9FF009BF2
SUMMARY:MTSJ Blitz Einzelmeisterschaft
CREATED:20260102T173214Z
DTSTAMP:20260102T173214Z
URL:https://www.main-taunus-schachvereinigung.de/index.php/termine/mtsj-blitz-einzelmeisterschaft
LAST-MODIFIED:20260102T173214Z
SEQUENCE:0
X-ACCESS:1
X-HITS:21
X-COLOR:008080
X-SHOW-END-TIME:0
END:VEVENT
BEGIN:VEVENT
DTSTART;TZID=UTC:20260711T140000
DTEND;TZID=UTC:20260711T160000
UID:F71BE4A5-03FA-43FA-A43C-CB433BD40563
SUMMARY:Turnierleitersitzung
CREATED:20260414T195148Z
DTSTAMP:20260414T195148Z
URL:https://www.main-taunus-schachvereinigung.de/index.php/termine/turnierleitersitzung-2
LAST-MODIFIED:20260414T195148Z
SEQUENCE:0
X-ACCESS:1
X-HITS:0
X-COLOR:008080
X-SHOW-END-TIME:1
END:VEVENT
BEGIN:VEVENT
DTSTART;TZID=UTC:20270124T140000
DTEND;TZID=UTC:20270124T150000
UID:050E4559-50B9-4F58-8C63-918BC7F7919B
SUMMARY:MTS-Blitz-Mannschaftsmeisterschaften
CREATED:20260222T152627Z
DTSTAMP:20260222T152627Z
URL:https://www.main-taunus-schachvereinigung.de/index.php/termine/mts-blitz-mannschaftsmeisterschaften-2
LAST-MODIFIED:20260222T152627Z
SEQUENCE:0
LOCATION:2 Rotlintallee\, Kelkheim\, Hessen 65779\, Deutschland
GEO:50.14639060;8.45046440
X-LOCATION-DISPLAYNAME:Deutschland, Hessen, Main-Taunus-Kreis, Kelkheim, 65779, Rotlintallee, 2
X-ACCESS:1
X-HITS:0
X-COLOR:008080
X-SHOW-END-TIME:0
END:VEVENT
END:VCALENDAR